BEGIN:VCALENDAR
VERSION:2.0
CALSCALE:GREGORIAN
PRODID:-//MyApp//Calendar 1.0//EN
BEGIN:VEVENT
METHOD:PUBLISH
UID:51201@regionalniportaly.cz
DTSTAMP:20260425T192017Z
DTSTART;VALUE=DATE:20250321
DTEND;VALUE=DATE:20250322
SUMMARY:Chill point party - Rosice
DESCRIPTION:Chill point: First launchPilotní proof of concept party\, která se koná v sálu zámku RosiceBude pro vás&nbsp\;připraven večer s&nbsp\;nezapomenutelnou atmosférou a širokou paletou nadstandardních služeb.Těšit se můžete na:skvělé DJ's&nbsp\;unikátní sortiment na baru (pití\, ale i jídlo!)VIP zónašatna na&nbsp\;odložení kabátu a bund pro váš komfortní zážitek&nbsp\;O pořadateli:Party pořádá Chill Point team. Kolektiv sdružený pod MATLA company. Za cíl si dáváme doručení co nejkomfornějšího zážitků na našich Eventech.
LOCATION:Rosice
END:VEVENT
END:VCALENDAR