BEGIN:VCALENDAR
VERSION:2.0
CALSCALE:GREGORIAN
PRODID:-//MyApp//Calendar 1.0//EN
BEGIN:VEVENT
METHOD:PUBLISH
UID:51142@regionalniportaly.cz
DTSTAMP:20260425T205846Z
DTSTART;VALUE=DATE:20250329
DTEND;VALUE=DATE:20250330
SUMMARY:Finanční gramotnost pro děti
DESCRIPTION:V našem kurzu se děti seznámí s důležitými finančními pojmy a dovednostmi\, které jim pomohou lépe porozumět světu peněz. Kurz je navržen tak\, aby byl zábavný a interaktivní\, a zahrnuje tato témata:\n\nHodnota a směna\nPeníze a bankomat\nRodinný rozpočet\nÚspory a rezerva \n\nKdy: sobota 29. 3. 2025 od 9 do 12 hodinKde: Budova SVČ Rubiko (Žerotínovo náměstí 1\, Rosice)Pro koho: od 7 do 11 letCena: 300 Kč (cena zahrnuje veškerý materiál a lektorné)\n \nRegistrace je nutná z důvodu omezené kapacity - přihlašování je spuštěno přes klientské centrum. Vedoucí kurzu: Ing. Veronika Svobodová\, svobodova@svcrosice.cz
LOCATION:Rosice
END:VEVENT
END:VCALENDAR