BEGIN:VCALENDAR
VERSION:2.0
CALSCALE:GREGORIAN
PRODID:-//MyApp//Calendar 1.0//EN
BEGIN:VEVENT
METHOD:PUBLISH
UID:51141@regionalniportaly.cz
DTSTAMP:20260425T191334Z
DTSTART;VALUE=DATE:20250322
DTEND;VALUE=DATE:20250323
SUMMARY:Kurz čalounění
DESCRIPTION:Lektorka vás provede celým procesem čalounění sedáku. Dozvíte se\, jak šetrně a pomocí jakých nástrojů odstranit starý sedák\, projdete a vyzkoušíte si celý postup čalounění. Dozvíte se\, jaké materiály a nástroje jsou nezbytné k dosažení perfektně vypnuté potahové látky. Pokud žádnou židli nevlastníte\, můžete očalounit židli z naší dílny.\n \nKdy: sobota 22. 3. 2025 od 9 do 12 hodinKde: komunitní dílna Kamínky (Kaštanová ev. č. 231)Cena: Kurz je díky podpoře projektu Propojujeme MAS BB zdarma. Na kurzu bude materiál na vypodložení podsedáku\, nářadí a lektorské vedení. Potahovou látku si účastníci zajistí sami\, nebo bude možné si ji zakoupit na místě. \n \nRegistrace je nutná z důvodu omezené kapacity - přihlašování je spuštěno přes klientské centrum. Více informací: otevrena.dilna@svcrosice.cz\, + 420 604 844 884\n 
LOCATION:Rosice
END:VEVENT
END:VCALENDAR