BEGIN:VCALENDAR
VERSION:2.0
CALSCALE:GREGORIAN
PRODID:-//MyApp//Calendar 1.0//EN
BEGIN:VEVENT
METHOD:PUBLISH
UID:51139@regionalniportaly.cz
DTSTAMP:20260426T000941Z
DTSTART;VALUE=DATE:20250302
DTEND;VALUE=DATE:20250303
SUMMARY:Truhlářský kurz - dřevěná stolička
DESCRIPTION:Kurz je zaměřen na zvládnutí základních truhlářských spojů. Během výroby stoličky si vyzkoušíte spoj na rozpor\, výrobu čepu a dlabu\, zasazování klínů a srážení hran. Výsledkem bude stolička ze smrkového dřeva o velikosti 40cm x 20cm x 20cm.\n \nKdy: neděle 2. 3. 2025 od 9 do 12 hodinKde: komunitní dílna Kamínky (Kaštanová ev. č. 231)Cena: Spolufinancováno projektem Propojujeme MAS BB. Materiál bude k zakoupení na místě za 300 Kč\n \nRegistrace je nutná z důvodu omezené kapacity - přihlašování je spuštěno přes klientské centrum. Více informací: otevrena.dilna@svcrosice.cz\, + 420 604 844 884\n 
LOCATION:Rosice
END:VEVENT
END:VCALENDAR