BEGIN:VCALENDAR
VERSION:2.0
CALSCALE:GREGORIAN
PRODID:-//MyApp//Calendar 1.0//EN
BEGIN:VEVENT
METHOD:PUBLISH
UID:51138@regionalniportaly.cz
DTSTAMP:20260426T000931Z
DTSTART;VALUE=DATE:20250301
DTEND;VALUE=DATE:20250302
SUMMARY:Šicí dílna pro rodiče s dětmi - obal na knihu
DESCRIPTION:Příjďte strávit příjemný čas se svými dětmi a pod vedením zkušené lektorky si ušijete jednoduchý obal na knihu.\n \nKdy: sobota 1. 3. 2025 od 9 do 12 hodinKde: komunitní dílna Kamínky (Kaštanová ev. č. 231)Cena: Kurz je díky podpoře projektu Propojujeme MAS BB zdarma.\n \nRegistrace je nutná z důvodu omezené kapacity - přihlašování je spuštěno přes klientské centrum. Jedna přihláška = 1 rodič + 1 dítěVíce informací: otevrena.dilna@svcrosice.cz\, + 420 604 844 884
LOCATION:Rosice
END:VEVENT
END:VCALENDAR