BEGIN:VCALENDAR
VERSION:2.0
CALSCALE:GREGORIAN
PRODID:-//MyApp//Calendar 1.0//EN
BEGIN:VEVENT
METHOD:PUBLISH
UID:51041@regionalniportaly.cz
DTSTAMP:20260425T210116Z
DTSTART;VALUE=DATE:20250316
DTEND;VALUE=DATE:20250317
SUMMARY:Rodinné systemické konstelace v Rosicích u Brna
DESCRIPTION:Milí přátelé\,přijměte pozvání na rodinné systemické konstelace s prvky NLP \, tentokrát na téma: Nové začátky\, obnova\, změna .Většinou konstelace\, které pořádám\, nemají všeobecný záměr\, ale často se do nich promítají roční období a to\, co se děje v přírodě. V březnu\, kdy se příroda začíná probouzet ze zimního spánku\, se vše kolem nás mění. Sníh se pomalu rozpouští\, první květy vykukují ze země a stromy začínají rašit. Tento měsíc je symbolem nových začátků\, obnovy a naděje.  🗓16. 3. 2025 (neděle) 📍Rahnův dům\, Palackého náměstí 46\, Rosice u Brna⏳13:00 – 19:00Naše konstelace budou inspirovány konci\, které však nejsou nutně negativní. V naší kultuře máme často strach z konců\, naučili jsme se\, že s nimi přichází bolest\, trápení a chaos. Málokdo si dovolí naplno prožívat tyto emoce\, přestože právě v jejich prožívání může spočívat uvolnění a osvobození.\nBřezen nám připomíná\, že i příroda se loučí se starým a vítá nové. Je to čas\, kdy si můžeme dovolit rozloučit se s něčím (někým)\, co už není pro náš nynější život důležité – a tím uvolnit místo pro to\, co pro nás důležité bude. Možná už jsi někdo jiný a je na čase se svým minulým já rozloučit\, aby nové já mohlo naplno žít.Přijďte se společně s námi rozloučit s tím\, co vás brzdí\, a otevřít se novým možnostem\, které nám březen a jeho síla přináší. V přírodě vidíme\, jak se život obnovuje\, a i my můžeme v sobě najít sílu k transformaci.Bude postaveno 5 – 6 konstelací s vlastním postavením.Vlastní konstelace není nutná\, léčivý účinek konstelací není podmíněn jen vlastní konstelací\, ale i účastí na konstelacích druhých.Moc se na všechny těším!Katy
LOCATION:Rosice
END:VEVENT
END:VCALENDAR