BEGIN:VCALENDAR
VERSION:2.0
CALSCALE:GREGORIAN
PRODID:-//MyApp//Calendar 1.0//EN
BEGIN:VEVENT
METHOD:PUBLISH
UID:50903@regionalniportaly.cz
DTSTAMP:20260422T125021Z
DTSTART;VALUE=DATE:20251210
DTEND;VALUE=DATE:20251211
SUMMARY:Pátá dohoda
DESCRIPTION:Inscenace\, která nás zavádí do hlubší roviny našeho sebeuvědomování a navrací nás k našemu vrozenému pravému já....režie Jaroslav Dušek
LOCATION:Zbýšov
END:VEVENT
END:VCALENDAR