BEGIN:VCALENDAR
VERSION:2.0
CALSCALE:GREGORIAN
PRODID:-//MyApp//Calendar 1.0//EN
BEGIN:VEVENT
METHOD:PUBLISH
UID:50901@regionalniportaly.cz
DTSTAMP:20260422T124943Z
DTSTART;VALUE=DATE:20251202
DTEND;VALUE=DATE:20251203
SUMMARY:Na ocet
DESCRIPTION:Svižná komedie o&nbsp\;dvou smolařích a&nbsp\;nepřízni osudu\, ale s&nbsp\;docela slibným koncem. Změní láska jejich životy k&nbsp\;lepšímu nebo jim je ještě více zamotá? Jane a&nbsp\;Mike jsou dva životní smolaři\, kteří zůstali „na ocet.“ Mike je rozvedený obchodní cestující\, otec dvanáctiletého syna\, Jane je svobodná matka dvouapůlleté Lucy. Jednoho rána se seznámí v&nbsp\;Mikově bytě\, kam Jane přišla jako náhodná známost Mikova spolubydlícího Teda. Mike se nečekaně vrací ze služební cesty. Oba se dopustili podobných chyb\, které mají pro ně neblahé následky. Vzájemná sympatie i&nbsp\;empatie obou smolařů roste každou minutou. Rozuzlení je překvapivé a&nbsp\;nečekané...Překlad:&nbsp\;Marta Skarlandtová. Scéna: kol. Kostýmy:&nbsp\;Lenka Polášková. Režie:&nbsp\;Pavel Šimák.Lenka Vlasáková\,&nbsp\;Jan Dolanský&nbsp\;
LOCATION:Zbýšov
END:VEVENT
END:VCALENDAR