BEGIN:VCALENDAR
VERSION:2.0
CALSCALE:GREGORIAN
PRODID:-//MyApp//Calendar 1.0//EN
BEGIN:VEVENT
METHOD:PUBLISH
UID:50900@regionalniportaly.cz
DTSTAMP:20260422T181007Z
DTSTART;VALUE=DATE:20251126
DTEND;VALUE=DATE:20251127
SUMMARY:Petr Spálený a Apollo Band
DESCRIPTION:
LOCATION:Zbýšov
END:VEVENT
END:VCALENDAR