BEGIN:VCALENDAR
VERSION:2.0
CALSCALE:GREGORIAN
PRODID:-//MyApp//Calendar 1.0//EN
BEGIN:VEVENT
METHOD:PUBLISH
UID:50897@regionalniportaly.cz
DTSTAMP:20260422T161826Z
DTSTART;VALUE=DATE:20251106
DTEND;VALUE=DATE:20251107
SUMMARY:Úsměvy Jaromíra Hanzlíka
DESCRIPTION:Talk show Úsměvy Jaromíra Hanzlíka&nbsp\;je jedinečnou příležitostí osobně se setkat s tímto oblíbeným hercem a připomenout si jeho cestu hereckým životem.
LOCATION:Zbýšov
END:VEVENT
END:VCALENDAR