BEGIN:VCALENDAR
VERSION:2.0
CALSCALE:GREGORIAN
PRODID:-//MyApp//Calendar 1.0//EN
BEGIN:VEVENT
METHOD:PUBLISH
UID:50895@regionalniportaly.cz
DTSTAMP:20260422T195023Z
DTSTART;VALUE=DATE:20251023
DTEND;VALUE=DATE:20251024
SUMMARY:Velké lásky v malém hotelu
DESCRIPTION:Bláznivá komedie Raye Cooneyho vypráví o&nbsp\;tom\, že ani člen vlády by si neměl něco začínat s&nbsp\;vdanou sekretářkou. A&nbsp\;pokud si vybere k&nbsp\;záletům hotel\, kde je i&nbsp\;jeho manželka a&nbsp\;čínská obsluha mu moc nerozumí\, je to přímo katastrofa.To potom potřebuješ spolehlivého tajemníka\, který dokáže vyrobit takové alibi\, nad kterými zůstává rozum stát. Pokud se do toho připlete puritánská poslankyně a&nbsp\;podváděný manžel\, je jasné\, že v&nbsp\;hotelu vypukne peklo.Ve dvou sousedních manželských apartmá hotelu bydlí celkem 11 lidí. Ve spletitých situacích zapříčiněných hned několika nevěrami\, z&nbsp\;nichž některé zasahují až do nejvyšších politických kruhů bojují o&nbsp\;svůj krk vlastně všichni aktéři.Věříme\, že komedie Velké lásky v&nbsp\;malém hotelu bude další úspěšnou a&nbsp\;divácky oblíbenou komedií.Překlad: Břetisla&nbsp\;HodekRežie: Roman&nbsp\;ŠtolpaVýprava: Zbyněk&nbsp\;SimčišinKostýmy: Zuzana&nbsp\;StrakováHrají:Richard WilleyLukáš&nbsp\;VaculíkPamela WilleyováMahulena&nbsp\;Bočanová&nbsp\;&nbsp\;/&nbsp\;&nbsp\;Olga&nbsp\;"Háta"&nbsp\;ŽelenskáJean De VriesAdéla&nbsp\;Gondíková&nbsp\;&nbsp\;/&nbsp\;&nbsp\;Betka&nbsp\;StankováGene De VriesJaroslav&nbsp\;Slánský&nbsp\;&nbsp\;/&nbsp\;&nbsp\;Filip&nbsp\;TomsaředitelMarcel&nbsp\;VašinkaLily ChattertonováIvana&nbsp\;Andrlová&nbsp\;&nbsp\;/&nbsp\;&nbsp\;Pavla&nbsp\;VojáčkováGeorge PigdenPavel&nbsp\;Nečas&nbsp\;&nbsp\;/&nbsp\;&nbsp\;Roman&nbsp\;Štolpačíšník - číňanJuraj&nbsp\;Bernáth&nbsp\;&nbsp\;/&nbsp\;&nbsp\;Martin&nbsp\;Sobotkakomorná - španělkaSandra&nbsp\;Černodrinská&nbsp\;&nbsp\;/&nbsp\;&nbsp\;Kristýna&nbsp\;Kociánová&nbsp\;&nbsp\;/&nbsp\;&nbsp\;Vítězslava&nbsp\;KarolováDélka představení:135&nbsp\;min. + přestávka (20&nbsp\;min.)&nbsp\;
LOCATION:Zbýšov
END:VEVENT
END:VCALENDAR