BEGIN:VCALENDAR
VERSION:2.0
CALSCALE:GREGORIAN
PRODID:-//MyApp//Calendar 1.0//EN
BEGIN:VEVENT
METHOD:PUBLISH
UID:50892@regionalniportaly.cz
DTSTAMP:20260422T225446Z
DTSTART;VALUE=DATE:20250922
DTEND;VALUE=DATE:20250923
SUMMARY:Čtyři dohody
DESCRIPTION:Inscenace podle knihy Dona Miguela Ruize\, vycházející ze staré moudrosti Toltéků. Jaroslav Dušek vede monolog a vysvětluje postupně všechny čtyři dohody z této knihy\, mezi kterými vystupují dva hudebníci se svými písněmi. Promlouvá na téma vzdělávacího systému\, výchovy dětí\, mezilidských vztahů a vnímání vlastního ega. Postupně odhaluje\, jak je celý náš civilizovaný systém založený na nesmyslném a nerovném soutěžení a honbou za iluzorním světem.
LOCATION:Zbýšov
END:VEVENT
END:VCALENDAR