BEGIN:VCALENDAR
VERSION:2.0
CALSCALE:GREGORIAN
PRODID:-//MyApp//Calendar 1.0//EN
BEGIN:VEVENT
METHOD:PUBLISH
UID:50835@regionalniportaly.cz
DTSTAMP:20260423T090749Z
DTSTART;VALUE=DATE:20250228
DTEND;VALUE=DATE:20250301
SUMMARY:Kayara a tajemné město Inků
DESCRIPTION:Peruánský animovaný film Kayara a tajemné město Inků nás zavede do jihoamerické říše Inků. Hlavní hrdinka\, šestnáctiletá Kayara touží stát se jedním z&nbsp\;královských poslů. Tato funkce je však určena výhradně mužům. Kayara se rozhodne přelstít inckého císaře a zúčastnit se závodu poslů přestrojena za muže. Její podvod je odhalen a Kayara má být potrestána\, mladého prince Paulla však její smělost nadchne. A tak se začíná psát příběh ženy\, která byla odvážnější\, silnější a rychlejší než všichni ostatní…
LOCATION:Zbýšov
END:VEVENT
END:VCALENDAR