BEGIN:VCALENDAR
VERSION:2.0
CALSCALE:GREGORIAN
PRODID:-//MyApp//Calendar 1.0//EN
BEGIN:VEVENT
METHOD:PUBLISH
UID:50833@regionalniportaly.cz
DTSTAMP:20260423T055521Z
DTSTART;VALUE=DATE:20250228
DTEND;VALUE=DATE:20250301
SUMMARY:Tichá pošta
DESCRIPTION:Dobrodružný rodinný film&nbsp\;Tichá pošta&nbsp\;se odehrává v zimě v zasněžených Krkonoších na sklonku německé okupace. Skupinka dětí zachraňuje sestřeleného francouzského pilota Pierra\, kterého našla v lese. Jejich akce připomíná princip známé hry na tichou poštu – zraněného pilota si děti mezi sebou předávají z jedné horské vesnice do druhé\, podobně jako utajenou zprávu ve škole. Hrají ale riskantní hru\, protože proti nim stojí smrtelně nebezpeční vojáci okupační armády\, musí přelstít zrádce a udavače a v neposlední řadě přežít v krutých podmínkách zimy na horách. Jejich cílem je několik desítek kilometrů vzdálená nemocnice\, kde najdou pro Pierra bezpečnou pomoc.
LOCATION:Zbýšov
END:VEVENT
END:VCALENDAR