BEGIN:VCALENDAR
VERSION:2.0
CALSCALE:GREGORIAN
PRODID:-//MyApp//Calendar 1.0//EN
BEGIN:VEVENT
METHOD:PUBLISH
UID:50405@regionalniportaly.cz
DTSTAMP:20260425T205944Z
DTSTART;VALUE=DATE:20250315
DTEND;VALUE=DATE:20250316
SUMMARY:Den zdraví 2025
DESCRIPTION:SVČ Rubiko a Zdravé město Rosice Vás srdečně zvou na akci věnovanou zdravému duchu ve zdravém těle! Čeká Vás řada pohybových\, relaxačních i vzdělávacích aktivit a doprovodný program pro děti i dospělé. Lekce a doprovodný program (až na výjimky uvedené u konkrétních lekcí) jsou pro účastníky připraveny ZDARMA. Na aktivity na SVČ se doporučujeme přihlásit předem\, a to přes registrační formulář - ZDE.\n \nKeramická dílna - talíř s otiskem rostlin10.00 – 12.00Keramická a výtvarná dílna SVČ Rubiko\n \nKurz asijské kuchyně pro rodiče s dětmi - Letní závitky10.00 – 11.30dotovaná cena - 600 Kč za dvojiciJazyková učebna SVČ Rubiko\n \nJóga s Lenkou Slancovou10.00 – 11.00Zrcadlový sál ZKC\n \nRelaxační výtvarná dílnaobraz - přírodniny na plátno14.00 – 16.00Keramická a výtvarná dílna SVČ Rubiko\n \nZdravotní cvičení pro ženy14.00 – 15.00Zrcadlový sál ZKC\n \nZdravá chůze14.00 – 15.00Sportovní sál SVČ Rubiko\n \nKurz floristiky - květinový box do skleničky14.00 – 15.30dotovaná cena - 150 Kč za účastníkaJazyková učebna SVČ Rubiko\n \nKruhový trénink s Milošem15.15 – 16.15Zrcadlový sál ZKC\n \nEssenciální jóga s Beatou16.30 – 17.30Zrcadlový sál ZKC\n \nBodystyling 16.30 – 17.30Sportovní sál SVČ Rubiko\n \nPsychická první pomoc15.45 – 17.00Jazyková učebna SVČ Rubiko\n \nPrvní pomoc a resuscitaceOtevřená lekce - není třeba se přilašovat. \n14.00 – 17.30Ubytovna SVČ Rubiko\n \nProsíme o zrušení registrace v případě Vaší neúčasti na holubarova@svcrosice.cz\, umožníte tak i dalším účastníkům užít si tento relaxační den. Děkujeme. \n \nDoprovodný program v ZKC (14.00 – 17.00) - nelze dopředu registrovat\n\nKontrola znamének\nStánek studentů MUNI MED\nDílna a hernička pro děti\nÚčesy a vlasové poradenství\nKosmetické ošetření\, obličejová masáž a poradenství \nObčerstvení a prodej produktů  Brána ke zdraví Brno\nAromaterapie (s možností výroby vlastní vůně - 250 Kč)\nMěření složení těla na bioimpedančním přístroji (50 Kč)\nFinanční gramotnost\n
LOCATION:Rosice
END:VEVENT
END:VCALENDAR