BEGIN:VCALENDAR
VERSION:2.0
CALSCALE:GREGORIAN
PRODID:-//MyApp//Calendar 1.0//EN
BEGIN:VEVENT
METHOD:PUBLISH
UID:50380@regionalniportaly.cz
DTSTAMP:20260425T222905Z
DTSTART;VALUE=DATE:20250206
DTEND;VALUE=DATE:20250207
SUMMARY:Tvořivá dílna - Enkaustika
DESCRIPTION:Malování horkým voskem na papír zvládnou dospělí i děti (starší sami\, mladší ve spolupráci s rodičem). Vyrobíme si tak například záložky do knihy...
LOCATION:Rosice
END:VEVENT
END:VCALENDAR