BEGIN:VCALENDAR
VERSION:2.0
CALSCALE:GREGORIAN
PRODID:-//MyApp//Calendar 1.0//EN
BEGIN:VEVENT
METHOD:PUBLISH
UID:50269@regionalniportaly.cz
DTSTAMP:20260425T230123Z
DTSTART;VALUE=DATE:20250228
DTEND;VALUE=DATE:20250301
SUMMARY:Příměšťáky v Kašpárkově
DESCRIPTION:Léto pro děti bude v Kašpárkově pestré!
LOCATION:Rosice
END:VEVENT
END:VCALENDAR