BEGIN:VCALENDAR
VERSION:2.0
CALSCALE:GREGORIAN
PRODID:-//MyApp//Calendar 1.0//EN
BEGIN:VEVENT
METHOD:PUBLISH
UID:50268@regionalniportaly.cz
DTSTAMP:20260425T205020Z
DTSTART;VALUE=DATE:20250309
DTEND;VALUE=DATE:20250310
SUMMARY:Workshop pečení chleba
DESCRIPTION:Praktický workshop o pečení chleba. \nNa setkání si společně krok za krokem projdeme procesem pečení. Odnesete si nové zážitky\, materiály i vlastní žitný kvásek. A nebude samozřejmě chybět ani ochutnávka. 
LOCATION:Rosice
END:VEVENT
END:VCALENDAR