BEGIN:VCALENDAR
VERSION:2.0
CALSCALE:GREGORIAN
PRODID:-//MyApp//Calendar 1.0//EN
BEGIN:VEVENT
METHOD:PUBLISH
UID:50259@regionalniportaly.cz
DTSTAMP:20260426T043952Z
DTSTART;VALUE=DATE:20250131
DTEND;VALUE=DATE:20250201
SUMMARY:Kroužky v Kašpárkově
DESCRIPTION:V kroužcích máme volná místa na 2.pol. (únor-červen)\, určitě si vyberete!\n \nPřihlášky se otevřou v pondělí 20.1.\n 
LOCATION:Rosice
END:VEVENT
END:VCALENDAR