BEGIN:VCALENDAR
VERSION:2.0
CALSCALE:GREGORIAN
PRODID:-//MyApp//Calendar 1.0//EN
BEGIN:VEVENT
METHOD:PUBLISH
UID:50185@regionalniportaly.cz
DTSTAMP:20260425T225905Z
DTSTART;VALUE=DATE:20250123
DTEND;VALUE=DATE:20250124
SUMMARY:Karnevalové muzicírování
DESCRIPTION:Karneval v Kašpárkovské herně
LOCATION:Rosice
END:VEVENT
END:VCALENDAR