BEGIN:VCALENDAR
VERSION:2.0
CALSCALE:GREGORIAN
PRODID:-//MyApp//Calendar 1.0//EN
BEGIN:VEVENT
METHOD:PUBLISH
UID:50122@regionalniportaly.cz
DTSTAMP:20260423T073018Z
DTSTART;VALUE=DATE:20250117
DTEND;VALUE=DATE:20250118
SUMMARY:V dobrém i ve zlém
DESCRIPTION:
LOCATION:Zbýšov
END:VEVENT
END:VCALENDAR