BEGIN:VCALENDAR
VERSION:2.0
CALSCALE:GREGORIAN
PRODID:-//MyApp//Calendar 1.0//EN
BEGIN:VEVENT
METHOD:PUBLISH
UID:49429@regionalniportaly.cz
DTSTAMP:20260426T043652Z
DTSTART;VALUE=DATE:20250126
DTEND;VALUE=DATE:20250127
SUMMARY:Karneval v džungli
DESCRIPTION:Srdečně vás zveme na tradiční maškarní karneval\, který se letos ponese v duchu divoké džungle! Přijďte si s dětmi užít odpoledne plné her\, soutěží a nezapomenutelných zážitků.\n \nCo vás čeká:- zábavné soutěže a hry pro malé i větší dobrodruhy- dětská diskotéka s bublinovou show- tombola s lákavými cenami- chill zóna pro rodiče\, kreativní dílnička pro děti a občerstvení pro každého\n \nKdy a kde:- neděle 26. ledna 2025- 15.00 – 18.00- Kulturní dům Cristal\, Rosice\n \nVstupné:- děti: 150 Kč- doprovod: Zdarma\n \nVyhněte se frontám a rezervujte si svá místa předem prostřednictvím našeho Klientského centra.V případě dotazů kontaktujte garanta akce: krajinova@svcrosice.cz\nTěšíme se na Vás!
LOCATION:Rosice
END:VEVENT
END:VCALENDAR