BEGIN:VCALENDAR
VERSION:2.0
CALSCALE:GREGORIAN
PRODID:-//MyApp//Calendar 1.0//EN
BEGIN:VEVENT
METHOD:PUBLISH
UID:49334@regionalniportaly.cz
DTSTAMP:20260426T043641Z
DTSTART;VALUE=DATE:20250126
DTEND;VALUE=DATE:20250127
SUMMARY:Matlohrátky
DESCRIPTION:Smyslohrátky jsou hry a činnosti\, které stimulují a rozvíjí všechny smysly dítěte. Děti si procvičí jemnou i hrubou motoriku\, soustředění\, pozornost\, budou rozvíjet svou fantazii\, kreativitu a představivost. 
LOCATION:Rosice
END:VEVENT
END:VCALENDAR