BEGIN:VCALENDAR
VERSION:2.0
CALSCALE:GREGORIAN
PRODID:-//MyApp//Calendar 1.0//EN
BEGIN:VEVENT
METHOD:PUBLISH
UID:49331@regionalniportaly.cz
DTSTAMP:20260426T004714Z
DTSTART;VALUE=DATE:20250116
DTEND;VALUE=DATE:20250117
SUMMARY:Bezplatná právní poradna
DESCRIPTION:Cílem poradny je nabídnout pomoc převážně v oblasti rodinného a pracovního práva tak\, aby klienti získali základní přehled o svých právech\, povinnostech a možnostech dalšího postupu.
LOCATION:Rosice
END:VEVENT
END:VCALENDAR