BEGIN:VCALENDAR
VERSION:2.0
CALSCALE:GREGORIAN
PRODID:-//MyApp//Calendar 1.0//EN
BEGIN:VEVENT
METHOD:PUBLISH
UID:49246@regionalniportaly.cz
DTSTAMP:20260423T044405Z
DTSTART;VALUE=DATE:20241220
DTEND;VALUE=DATE:20241221
SUMMARY:Lovec Kraven
DESCRIPTION:Lovec Kraven je strhující příběh o tom\, jak a proč vznikl jeden z nejikoničtějších padouchů Marvelu. Aaron Taylor-Johnson se ve filmu představuje v roli titulní postavy\, která se odehrává ještě před jeho proslulou vendetou se Spider-Manem.VĚKOVÁ HRANICE: 15+
LOCATION:Zbýšov
END:VEVENT
END:VCALENDAR