BEGIN:VCALENDAR
VERSION:2.0
CALSCALE:GREGORIAN
PRODID:-//MyApp//Calendar 1.0//EN
BEGIN:VEVENT
METHOD:PUBLISH
UID:49075@regionalniportaly.cz
DTSTAMP:20260426T022729Z
DTSTART;VALUE=DATE:20241213
DTEND;VALUE=DATE:20241214
SUMMARY:Tvořivá dílna - Keramika
DESCRIPTION:Skvělá relaxace při práci s hlínou.
LOCATION:Rosice
END:VEVENT
END:VCALENDAR