BEGIN:VCALENDAR
VERSION:2.0
CALSCALE:GREGORIAN
PRODID:-//MyApp//Calendar 1.0//EN
BEGIN:VEVENT
METHOD:PUBLISH
UID:48753@regionalniportaly.cz
DTSTAMP:20260425T154731Z
DTSTART;VALUE=DATE:20250417
DTEND;VALUE=DATE:20250418
SUMMARY:ARAKAIN & ALKEHOL - A+A tour 2025
DESCRIPTION:Koncertní turné legendárních českých rockových kapel Arakain a Alkehol. Arakain oslaví 43 let na scéně! Alkehol oslaví 33 let na scéně!\n \nVstupenky v sítích:SMS Ticket https://bit.ly/3YnbFxmTicketstream https://bit.ly/4ePe7Te
LOCATION:Rosice
END:VEVENT
END:VCALENDAR