BEGIN:VCALENDAR
VERSION:2.0
CALSCALE:GREGORIAN
PRODID:-//MyApp//Calendar 1.0//EN
BEGIN:VEVENT
METHOD:PUBLISH
UID:48608@regionalniportaly.cz
DTSTAMP:20260423T025438Z
DTSTART;VALUE=DATE:20250111
DTEND;VALUE=DATE:20250112
SUMMARY:Novo-rockovější bál
DESCRIPTION:Rockový bál\, skvělá&nbsp\;hudba\, nálada\, kapely 19.00-22.00 STÍNY\, 22.00- 02.00 bezKofeinu\, Démonický živý vstup\, propojení rockové hudby a ohně\, slosovatelné vstupenky\, prvních 100 návštěvníků uvítací zahřívací lok&nbsp\;&nbsp\;&nbsp\;
LOCATION:Zbýšov
END:VEVENT
END:VCALENDAR