BEGIN:VCALENDAR
VERSION:2.0
CALSCALE:GREGORIAN
PRODID:-//MyApp//Calendar 1.0//EN
BEGIN:VEVENT
METHOD:PUBLISH
UID:48585@regionalniportaly.cz
DTSTAMP:20260426T022800Z
DTSTART;VALUE=DATE:20241214
DTEND;VALUE=DATE:20241215
SUMMARY:Matlohrátky
DESCRIPTION:Tentokrát budou aktivity inspirovány adventem.
LOCATION:Rosice
END:VEVENT
END:VCALENDAR