BEGIN:VCALENDAR
VERSION:2.0
CALSCALE:GREGORIAN
PRODID:-//MyApp//Calendar 1.0//EN
BEGIN:VEVENT
METHOD:PUBLISH
UID:48554@regionalniportaly.cz
DTSTAMP:20260425T153231Z
DTSTART;VALUE=DATE:20250627
DTEND;VALUE=DATE:20250628
SUMMARY:Pokáč | Zámek Rosice
DESCRIPTION:Pokáč&nbsp\;se do Rosic vrací již potřetí\, což jen potvrzuje jeho obrovskou popularitu.&nbsp\;Pokáč je český písničkář\, který hraje na kytaru\, ukulele a nemá moc vlasů. V textech často humornou a satirickou formou zpracovává témata obyčejného života. Jeho videa mají na Youtube miliony zhlédnutí\, mezi jeho úspěchy se řadí 2. místo v anketě Český Slavík v kategorii zpěvák\, ocenění Platinová deska za prodej jeho studiových alb či vyprodaná O2 aréna. Přesto je to pořád skromný kluk\, který má rád maminku\, jídlo a svojí kočku.Tentokrát se jedinečný open-air koncert uskuteční 27. června 2025\, tedy v den vysvědčení. I tentokrát očekáváme velký zájem\, proto s nákupem vstupenek rozhodně neváhejte a pořiďte je svým blízkým už pod stromeček.Harmonogram:18:00 Otevření zámeckého areálu&nbsp\;19:30 Slavíček20:30 Pokáč22:00 Autogramiáda
LOCATION:Rosice
END:VEVENT
END:VCALENDAR