BEGIN:VCALENDAR
VERSION:2.0
CALSCALE:GREGORIAN
PRODID:-//MyApp//Calendar 1.0//EN
BEGIN:VEVENT
METHOD:PUBLISH
UID:48461@regionalniportaly.cz
DTSTAMP:20260423T032531Z
DTSTART;VALUE=DATE:20250415
DTEND;VALUE=DATE:20250416
SUMMARY:Kouči v nesnázích
DESCRIPTION:Skvělá detektivní komedie jednoho z nejhranějších autorů současnosti Norma Fostera.Hal a Cindy jsou manželé a neúspěšní herci na volné noze\, kteří se protloukají z jedné štace na druhou\, až si jednoho dne řeknou\, že musí přijít na něco\, na čem vydělají skutečné peníze. A co je dnes v módě? No přece „kouči“. Lidé už sami sobě nerozumí\, a tak kouč poradí\, co si myslet\, co říkat\, jaká rozhodnutí dělat a jak být se svým životem spokojení. Za to jsou lidé ochotni dobře zaplatit\, a tak už Hal a Cindy nejsou chudí umělci\, ale bohatí podvodníci s lidským štěstím.Jenže právě v tu chvíli se v jejich životě a novém luxusním domě objeví někdo\, kdo by mohl všechno změnit\, dokonce zničit. Je to jejich zahradník Andrew. Vše se ale řádně komplikuje\, protože&nbsp\; Andrew je mrtvý. Zemřel zcela náhle\, když ho Cindy vyděsila při pokusu o drobnou nevěru. A právě zde začíná zápletka celé komedie. Hal i Cindy se nyní musí mrtvoly nějak šikovně zbavit\, aby si toho nikdo nevšiml. To ale není tak snadné\, když vám do domu stále někdo leze. Zvědaví novináři\, hysterická pokojská a nakonec i policie... Roztočí se tak kolotoč bláznivých situací\, vtipných dialogů a výbušného humoru této situační detektivní komedie\, kde zahradník nemůže být vrah\, protože je tuhý.&nbsp\;Herecké obsazeníCindy Savage: Pavla TomicováHal Savage: Josef PolášekBernice služebná:&nbsp\;Kristýna FrejováRuby Delvecchio:&nbsp\;Eva LeinweberováDetektiv Snow:&nbsp\;Bronislav KotišJeremy Cash:&nbsp\;Radek ZimaTvůrciAutor:&nbsp\;N.FosterPřeklad:&nbsp\;M.FahrnerRežie:&nbsp\;J.NvotaVýtvarník kostýmů:&nbsp\;L.PoláškováVýtvarník scény:&nbsp\;M.KrálHudba:&nbsp\;M. Buzzi
LOCATION:Zbýšov
END:VEVENT
END:VCALENDAR