BEGIN:VCALENDAR
VERSION:2.0
CALSCALE:GREGORIAN
PRODID:-//MyApp//Calendar 1.0//EN
BEGIN:VEVENT
METHOD:PUBLISH
UID:48458@regionalniportaly.cz
DTSTAMP:20260425T224922Z
DTSTART;VALUE=DATE:20250112
DTEND;VALUE=DATE:20250113
SUMMARY:Kafe u OSMANYHO
DESCRIPTION:Originální zábavný pořad&nbsp\;populárního módního návrháře kubánského původu Osmanyho Laffity.Mnohdy neuvěřitelné historky ze života Osmanyho Laffity\,&nbsp\;při kterých se divák baví od první chvíle. Život Osmanyho je totiž velmi pestrý a co jiný nezažijí za celý život\, on už dávno zvládnul.Osmany odhalí i to\, co mělo zůstat utajeno!&nbsp\;A bez cenzury!&nbsp\;Moderuje:&nbsp\;Eva DECASTELOÚčinkuje:&nbsp\;Osmany LAFFITA&nbsp\;Délka představení 90 až 120 minut (obvykle + přestávka)Představení nedoporučujeme divákům mladším 15 let.&nbsp\;
LOCATION:Zbýšov
END:VEVENT
END:VCALENDAR