BEGIN:VCALENDAR
VERSION:2.0
CALSCALE:GREGORIAN
PRODID:-//MyApp//Calendar 1.0//EN
BEGIN:VEVENT
METHOD:PUBLISH
UID:48402@regionalniportaly.cz
DTSTAMP:20260425T224529Z
DTSTART;VALUE=DATE:20250215
DTEND;VALUE=DATE:20250216
SUMMARY:KAMELOT – "Návrat na místo činu"
DESCRIPTION:V koncertu "Návrat na místo činu" se Roman Horký a Kamelot vrátí ke skladbám ze dvou úvodních alb a písním složeným v letech 1981 až 1991. K období\, které dalo Kamelotu alba Zachraňte koně\, Tajný výpravy a kdy se kapela zapsala do srdcí tisíců posluchačů. Koncertní program tak bude složen pouze z&nbsp\;těchto &nbsp\;dnes již legendárních skladeb jako Zachraňte koně\, Cikáni\, Amulet\, Čas rozchodů\, Psáno na březové kůře\, Tajný výpravy\, Krajina větrných mlýnů\, Vzpomínka na kamaráda a dalších písní prvního desetiletí kapely.„Zachraňte koně je první a nejúspěšnější studiové album skupiny Kamelot. Bylo vydáno v&nbsp\;roce 1990. Za téměř 100 tisíc prodaných nosičů bylo oceněno multiplatinovou deskou. Titulní píseň Zachraňte koně se stala Hitem desetiletí ve folk a country hudbě.“Rapotický koncert bude výjimečný také tím\, že po koncertu&nbsp\;zahraje&nbsp\;Roman Horký s Viktorem&nbsp\;Porkristlem&nbsp\;krátce u ohně za sokolovnou. Hrát se bude v sále sokolovny i poté\, takzvaně "u stolu"\, sokolovna bude pro všechny příznivce Kamelotu otevřena až do 24 hodin. Pro všechny návštěvníky bude hodinu před koncertem a také po koncertu až do 24 hodin otevřený bufet s občerstvením\, nápoji i klobásou. Bude to jedinečná vzpomínka na první festival Kamelotu!&nbsp\;
LOCATION:Rapotice
END:VEVENT
END:VCALENDAR