BEGIN:VCALENDAR
VERSION:2.0
CALSCALE:GREGORIAN
PRODID:-//MyApp//Calendar 1.0//EN
BEGIN:VEVENT
METHOD:PUBLISH
UID:48369@regionalniportaly.cz
DTSTAMP:20260425T230133Z
DTSTART;VALUE=DATE:20250122
DTEND;VALUE=DATE:20250123
SUMMARY:Marie Rottrová
DESCRIPTION:MARIE ROTTROVÁ.První dáma českého soulu\, ostravská rodačka\, skvělá zpěvačka\, pianistka\, skladatelka vystoupí 22.1.2025 v Rosicích.Můžete se těšit na takové hudební klenoty z jejího repertoáru jako jsou například Lásko voníš deštěm\, Ten vůz už jel\, Skořápky ořechů\, Markétka\, Zřejmě letos nikde nejsou kytky\, S tím bláznem si nezačínej...
LOCATION:Rosice
END:VEVENT
END:VCALENDAR