BEGIN:VCALENDAR
VERSION:2.0
CALSCALE:GREGORIAN
PRODID:-//MyApp//Calendar 1.0//EN
BEGIN:VEVENT
METHOD:PUBLISH
UID:48279@regionalniportaly.cz
DTSTAMP:20260426T041706Z
DTSTART;VALUE=DATE:20241118
DTEND;VALUE=DATE:20241119
SUMMARY:Cvičení pro ženy
DESCRIPTION:Každá si vybere to své- dopoledne v přítomnosti dětí\, v podvečer pro těhotné a večer jen pro ženy bez dětí. Tak kdy se potkáme?
LOCATION:Rosice
END:VEVENT
END:VCALENDAR