BEGIN:VCALENDAR
VERSION:2.0
CALSCALE:GREGORIAN
PRODID:-//MyApp//Calendar 1.0//EN
BEGIN:VEVENT
METHOD:PUBLISH
UID:48163@regionalniportaly.cz
DTSTAMP:20260426T021816Z
DTSTART;VALUE=DATE:20241130
DTEND;VALUE=DATE:20241201
SUMMARY:Dětská tvořivá dílna - adventní
DESCRIPTION:Přijďte se s dětmi naladit na advent. 
LOCATION:Rosice
END:VEVENT
END:VCALENDAR