BEGIN:VCALENDAR
VERSION:2.0
CALSCALE:GREGORIAN
PRODID:-//MyApp//Calendar 1.0//EN
BEGIN:VEVENT
METHOD:PUBLISH
UID:48052@regionalniportaly.cz
DTSTAMP:20260426T002632Z
DTSTART;VALUE=DATE:20241130
DTEND;VALUE=DATE:20241201
SUMMARY:Adventní dílna
DESCRIPTION:Adventní nálada v herně\, kterou si v podobě věnce přinesete i domů.
LOCATION:Rosice
END:VEVENT
END:VCALENDAR