BEGIN:VCALENDAR
VERSION:2.0
CALSCALE:GREGORIAN
PRODID:-//MyApp//Calendar 1.0//EN
BEGIN:VEVENT
METHOD:PUBLISH
UID:47598@regionalniportaly.cz
DTSTAMP:20260426T035043Z
DTSTART;VALUE=DATE:20241122
DTEND;VALUE=DATE:20241123
SUMMARY:DJ Boris - Rosice - Retro párty (18+)
DESCRIPTION:Legendární akce DJ Boris&nbsp\;&nbsp\;znovu v kulturním domě Cristal Rosice&nbsp\;&nbsp\;Tentokrát ve stylu RETRO PARTY osmdesátých a devadesátých let! Dobové kostýmy a převleky vítány!VSTUP POUZE STARŠÍM 18 LET!!!Koná se v pátek 22. listopadu 2024 od 20:00 hod.&nbsp\;Po celou noc retro hity 80. a 90. let v originálních verzích\, které zaručeně znáte&nbsp\;&nbsp\;Kromě diskotékových pecek nebudou samozřejmě chybět i rockové a Česko-Slovenské hity.Zajištěno bohaté občerstvení včetně točeného piva a míchaných drinků.Kvalitní zvuk a světla\, laser show.Vstup na místě: 150 KčPředprodej SMS ticket:1.vlna 100 Kč2.vlna 130 Kč3.vlna 150 KčNa Vaši bezpečnost bude dohlížet profesionální security služba.Otevřeno od 20:00 hod.
LOCATION:Rosice
END:VEVENT
END:VCALENDAR