BEGIN:VCALENDAR
VERSION:2.0
CALSCALE:GREGORIAN
PRODID:-//MyApp//Calendar 1.0//EN
BEGIN:VEVENT
METHOD:PUBLISH
UID:47545@regionalniportaly.cz
DTSTAMP:20260426T022257Z
DTSTART;VALUE=DATE:20241121
DTEND;VALUE=DATE:20241122
SUMMARY:Workshop - Přírodní kosmetika
DESCRIPTION:Jaké to je používat krém\, který si vyrobíte přímo sobě na míru? Voňavý\, hojivý\, pěstící\, rozjasňující...\nA k tomu ještě malé překvapení. 
LOCATION:Rosice
END:VEVENT
END:VCALENDAR