BEGIN:VCALENDAR
VERSION:2.0
CALSCALE:GREGORIAN
PRODID:-//MyApp//Calendar 1.0//EN
BEGIN:VEVENT
METHOD:PUBLISH
UID:47544@regionalniportaly.cz
DTSTAMP:20260426T022719Z
DTSTART;VALUE=DATE:20241114
DTEND;VALUE=DATE:20241115
SUMMARY:Muzicírování pro děti
DESCRIPTION:Na zámecké půdě v Rosicích se odehraje příběh s dopisem z nebeských mraků na začátku a spoustou muziky\, bubnování a písniček a barevných nápadů
LOCATION:Rosice
END:VEVENT
END:VCALENDAR