BEGIN:VCALENDAR
VERSION:2.0
CALSCALE:GREGORIAN
PRODID:-//MyApp//Calendar 1.0//EN
BEGIN:VEVENT
METHOD:PUBLISH
UID:47404@regionalniportaly.cz
DTSTAMP:20260426T034944Z
DTSTART;VALUE=DATE:20241211
DTEND;VALUE=DATE:20241212
SUMMARY:Beseda - Jak naučit děti lyžovat
DESCRIPTION:Přednáška nabídne metodiku lyžování dětí\, od prvních krůčků až po lyžování na sjezdovce. Posluchači poznají podrobná cvičení různých obtížností a informace ohledně lyžařského vybavení.
LOCATION:Rosice
END:VEVENT
END:VCALENDAR