BEGIN:VCALENDAR
VERSION:2.0
CALSCALE:GREGORIAN
PRODID:-//MyApp//Calendar 1.0//EN
BEGIN:VEVENT
METHOD:PUBLISH
UID:47133@regionalniportaly.cz
DTSTAMP:20260426T035013Z
DTSTART;VALUE=DATE:20241024
DTEND;VALUE=DATE:20241025
SUMMARY:Tvořivá dílna - lucernička
DESCRIPTION:Rozsviťte si podzimní večery krásnou lampičkou na svíčku.
LOCATION:Rosice
END:VEVENT
END:VCALENDAR