BEGIN:VCALENDAR
VERSION:2.0
CALSCALE:GREGORIAN
PRODID:-//MyApp//Calendar 1.0//EN
BEGIN:VEVENT
METHOD:PUBLISH
UID:47103@regionalniportaly.cz
DTSTAMP:20260426T022820Z
DTSTART;VALUE=DATE:20241109
DTEND;VALUE=DATE:20241110
SUMMARY:Kašpárkovy matlohrátky
DESCRIPTION:Sensoryplay\, neboli smyslohrátky jsou hry a činnosti\, které stimulují a rozvíjí všechny smysly dětí. Proto se v sobotu dopoledne Kašpárkovská herna promění v malou laboratoř pro dětské pokusy a objevování. 
LOCATION:Rosice
END:VEVENT
END:VCALENDAR