BEGIN:VCALENDAR
VERSION:2.0
CALSCALE:GREGORIAN
PRODID:-//MyApp//Calendar 1.0//EN
BEGIN:VEVENT
METHOD:PUBLISH
UID:46915@regionalniportaly.cz
DTSTAMP:20260425T153536Z
DTSTART;VALUE=DATE:20250417
DTEND;VALUE=DATE:20250418
SUMMARY:Arakain & Alkehol - A+A Tour 2025 v Rosicích
DESCRIPTION:Koncertní turné legendárních českých rockových kapel Arakain a Alkehol.&nbsp\;Arakain oslaví 43 let na scéně!&nbsp\;Alkehol oslaví 33 let na scéně!
LOCATION:Rosice
END:VEVENT
END:VCALENDAR