BEGIN:VCALENDAR
VERSION:2.0
CALSCALE:GREGORIAN
PRODID:-//MyApp//Calendar 1.0//EN
BEGIN:VEVENT
METHOD:PUBLISH
UID:46876@regionalniportaly.cz
DTSTAMP:20260423T032627Z
DTSTART;VALUE=DATE:20250410
DTEND;VALUE=DATE:20250411
SUMMARY:Svatba bez obřadu
DESCRIPTION:Bez obřadu se můžete dát zpopelnit\, ale ne se vdát. To si myslel leckterý z&nbsp\;aktérů brilantní francouzské situační komedie\, než vstoupil do hry mladý\, sympatický a&nbsp\;nad poměry výřečný pojišťovací agent\, než odcestoval razantní a&nbsp\;trochu nervózní milionář Leonard se svou půvabnou éterickou manželkou za obchodem do Paříže\, než se jejich jediný pravý syn vrátil z&nbsp\;brazilských pralesů a&nbsp\;především: než zůstaly rodinné akcie v&nbsp\;rukou manželky a&nbsp\;rodinné sídlo v&nbsp\;rukou dcery.Když tento výčet znásobíme jedním odmítaným nápadníkem z&nbsp\;lepší rodiny a&nbsp\;vydělíme jedním domnělým sňatkem\, výsledkem je řízný komediální zmatek plný omylů a&nbsp\;nevinných léček\, lehkosti a&nbsp\;nonšalantní elegance ve vtipných dialozích a&nbsp\;v bláznivých\, originálně vypointovaných situacích. To vše ve výsostně francouzském stylu. Průšvih střídá průšvih\, pohroma pohromu v&nbsp\;tempu přímo hektickém. A&nbsp\;přesto se hra drží v&nbsp\;žánru příjemné komedie.Komedie která byla v&nbsp\;roce 1963 zfilmována pod názvem Pouic Pouic s&nbsp\;Louis de Funesem a&nbsp\;Mireille Darcovou v&nbsp\;hlavních rolích je již 26. kusem Divadelní společnosti Háta.
LOCATION:Zbýšov
END:VEVENT
END:VCALENDAR