BEGIN:VCALENDAR
VERSION:2.0
CALSCALE:GREGORIAN
PRODID:-//MyApp//Calendar 1.0//EN
BEGIN:VEVENT
METHOD:PUBLISH
UID:46874@regionalniportaly.cz
DTSTAMP:20260423T032658Z
DTSTART;VALUE=DATE:20250328
DTEND;VALUE=DATE:20250329
SUMMARY:Vlasta Redl "50"
DESCRIPTION:
LOCATION:Zbýšov
END:VEVENT
END:VCALENDAR