BEGIN:VCALENDAR
VERSION:2.0
CALSCALE:GREGORIAN
PRODID:-//MyApp//Calendar 1.0//EN
BEGIN:VEVENT
METHOD:PUBLISH
UID:46868@regionalniportaly.cz
DTSTAMP:20260426T001003Z
DTSTART;VALUE=DATE:20250105
DTEND;VALUE=DATE:20250106
SUMMARY:Shodou okolností
DESCRIPTION:Hudební uskupení Souhra okolností - zpěv Martin PoštaMichael Šporcl – saxofon/klarinetVítek Kojzar – klavírVám zahrají a zazpívají písně známé dvojice Hapka+ Horáček.&nbsp\;
LOCATION:Zbýšov
END:VEVENT
END:VCALENDAR