BEGIN:VCALENDAR
VERSION:2.0
CALSCALE:GREGORIAN
PRODID:-//MyApp//Calendar 1.0//EN
BEGIN:VEVENT
METHOD:PUBLISH
UID:46621@regionalniportaly.cz
DTSTAMP:20260426T035134Z
DTSTART;VALUE=DATE:20241123
DTEND;VALUE=DATE:20241124
SUMMARY:Babické vinařské slavnosti
DESCRIPTION:Babické vinařské slavnosti jsou akcí\, kde budete moci ochutnat vzorky vín 4 regionálních vinařství. Během odpoledne je pro Vás připraven bohatý kulturní program a tombola. Posezení Vám zpříjemní živá hudba. Budete moci též ochutnat v gastrozóně pokrmy\, které se budou snoubit s nabízenými víny.
LOCATION:Babice u Rosic
END:VEVENT
END:VCALENDAR