BEGIN:VCALENDAR
VERSION:2.0
CALSCALE:GREGORIAN
PRODID:-//MyApp//Calendar 1.0//EN
BEGIN:VEVENT
METHOD:PUBLISH
UID:46506@regionalniportaly.cz
DTSTAMP:20260422T223458Z
DTSTART;VALUE=DATE:20241030
DTEND;VALUE=DATE:20241031
SUMMARY:Venom: Poslední tanec
DESCRIPTION:Závěrečný díl filmové trilogie – opět se vrací Tom Hardy v roli Venoma\, jednoho z nejlepších a nejkomplexnějších hrdinů comicsového světa společnosti Marvel. Eddie s Venomem jsou na útěku. V patách jim jsou jak lidé\, tak i symbionti\, a jak se smyčka pomalu stahuje… Dokud nás smrt nerozdělí!Režie: Kelly Marceldabováno105 minut
LOCATION:Zbýšov
END:VEVENT
END:VCALENDAR