BEGIN:VCALENDAR
VERSION:2.0
CALSCALE:GREGORIAN
PRODID:-//MyApp//Calendar 1.0//EN
BEGIN:VEVENT
METHOD:PUBLISH
UID:46495@regionalniportaly.cz
DTSTAMP:20260423T055609Z
DTSTART;VALUE=DATE:20241011
DTEND;VALUE=DATE:20241012
SUMMARY:Malý velký pes
DESCRIPTION:Annie a její toulavý pes Runt s&nbsp\;esnaží vyhrát mistrovství v&nbsp\;agility\, aby zachránili rodinnou farmu před suchem a bídou…Režie: John Sheedy&nbsp\;dabováno&nbsp\;\, 91 minut
LOCATION:Zbýšov
END:VEVENT
END:VCALENDAR